BEGIN:VCALENDAR
VERSION:2.0
PRODID:-//PROTEC17 - ECPv6.15.20//NONSGML v1.0//EN
CALSCALE:GREGORIAN
METHOD:PUBLISH
X-ORIGINAL-URL:https://www.protec17.org
X-WR-CALDESC:Events for PROTEC17
REFRESH-INTERVAL;VALUE=DURATION:PT1H
X-Robots-Tag:noindex
X-PUBLISHED-TTL:PT1H
BEGIN:VTIMEZONE
TZID:America/Los_Angeles
BEGIN:DAYLIGHT
TZOFFSETFROM:-0800
TZOFFSETTO:-0700
TZNAME:PDT
DTSTART:20220313T100000
END:DAYLIGHT
BEGIN:STANDARD
TZOFFSETFROM:-0700
TZOFFSETTO:-0800
TZNAME:PST
DTSTART:20221106T090000
END:STANDARD
BEGIN:DAYLIGHT
TZOFFSETFROM:-0800
TZOFFSETTO:-0700
TZNAME:PDT
DTSTART:20230312T100000
END:DAYLIGHT
BEGIN:STANDARD
TZOFFSETFROM:-0700
TZOFFSETTO:-0800
TZNAME:PST
DTSTART:20231105T090000
END:STANDARD
BEGIN:DAYLIGHT
TZOFFSETFROM:-0800
TZOFFSETTO:-0700
TZNAME:PDT
DTSTART:20240310T100000
END:DAYLIGHT
BEGIN:STANDARD
TZOFFSETFROM:-0700
TZOFFSETTO:-0800
TZNAME:PST
DTSTART:20241103T090000
END:STANDARD
END:VTIMEZONE
BEGIN:VEVENT
DTSTART;TZID=America/Los_Angeles:20230317T180000
DTEND;TZID=America/Los_Angeles:20230317T200000
DTSTAMP:20260425T201023
CREATED:20230313T225320Z
LAST-MODIFIED:20230315T173213Z
UID:7246-1679076000-1679083200@www.protec17.org
SUMMARY:APALA 2023 Banquet
DESCRIPTION:The Asian Pacific American Labor Association (APALA)\, AFL-CIO is hosting their annual banquet on Fri.\, March 17 at 6 p.m. This year the theme is\, “Asian American Native Hawaiian Pacific Islander (AANHPI) Workers Transforming Our Labor Movement.” PROTEC17 has up to 5 FREE spots for members — this is first come first serve. \nPLEASE RSVP BELOW!
URL:https://www.protec17.org/event/apala-2023-banquet/
LOCATION:Jerry Brockey Center (South Seattle College)\, 6000 16th Ave SW\, Seattle\, 98106
CATEGORIES:racial justice
ATTACH;FMTTYPE=image/webp:https://www.protec17.org/wp-content/uploads/2023/03/0178436df55d8f54c37ff582a9257947df86e4aa920bc9d53ce29e692b22d0f7-rimg-w960-h742-gmir.webp
END:VEVENT
END:VCALENDAR