BEGIN:VCALENDAR
VERSION:2.0
PRODID:-//PROTEC17 - ECPv6.15.17.1//NONSGML v1.0//EN
CALSCALE:GREGORIAN
METHOD:PUBLISH
X-ORIGINAL-URL:https://www.protec17.org
X-WR-CALDESC:Events for PROTEC17
REFRESH-INTERVAL;VALUE=DURATION:PT1H
X-Robots-Tag:noindex
X-PUBLISHED-TTL:PT1H
BEGIN:VTIMEZONE
TZID:America/Los_Angeles
BEGIN:DAYLIGHT
TZOFFSETFROM:-0800
TZOFFSETTO:-0700
TZNAME:PDT
DTSTART:20250309T100000
END:DAYLIGHT
BEGIN:STANDARD
TZOFFSETFROM:-0700
TZOFFSETTO:-0800
TZNAME:PST
DTSTART:20251102T090000
END:STANDARD
BEGIN:DAYLIGHT
TZOFFSETFROM:-0800
TZOFFSETTO:-0700
TZNAME:PDT
DTSTART:20260308T100000
END:DAYLIGHT
BEGIN:STANDARD
TZOFFSETFROM:-0700
TZOFFSETTO:-0800
TZNAME:PST
DTSTART:20261101T090000
END:STANDARD
BEGIN:DAYLIGHT
TZOFFSETFROM:-0800
TZOFFSETTO:-0700
TZNAME:PDT
DTSTART:20270314T100000
END:DAYLIGHT
BEGIN:STANDARD
TZOFFSETFROM:-0700
TZOFFSETTO:-0800
TZNAME:PST
DTSTART:20271107T090000
END:STANDARD
END:VTIMEZONE
BEGIN:VEVENT
DTSTART;TZID=America/Los_Angeles:20260204T120000
DTEND;TZID=America/Los_Angeles:20260204T130000
DTSTAMP:20260422T090913
CREATED:20260204T201157Z
LAST-MODIFIED:20260204T201157Z
UID:11344-1770206400-1770210000@www.protec17.org
SUMMARY:Steward Training - Part 1
DESCRIPTION:Not sure what all a Steward does? We’re here to help! Join your fellow PROTEC17 Union Stewards for Steward Training – Part 1! We’ll discuss the many roles of an effective Steward\, grievances\, and members’ right to representation. Open to all Stewards\, new and experienced! Members will need to attend parts one and two before officially becoming a Steward. Please check your email and/or the Member Portal events page HERE for more info and meeting details.
URL:https://www.protec17.org/event/steward-training-part-1-14/
LOCATION:ONLINE MEETING ONLY
ATTACH;FMTTYPE=image/png:https://www.protec17.org/wp-content/uploads/2024/04/Steward-Training-WEB.png
END:VEVENT
BEGIN:VEVENT
DTSTART;TZID=America/Los_Angeles:20260204T174500
DTEND;TZID=America/Los_Angeles:20260204T184500
DTSTAMP:20260422T090913
CREATED:20260121T233639Z
LAST-MODIFIED:20260121T234035Z
UID:11287-1770227100-1770230700@www.protec17.org
SUMMARY:DOL Revenue Auditors Meeting
DESCRIPTION:Join your fellow PROTEC17 Department of Licensing (DOL) Revenue Auditors for our upcoming meeting via Zoom! Meetings will take place every three months on the first Wednesday at 5:30 p.m. unless stated otherwise. Please check your personal email or the Member Portal events page HERE for full details\, including how to join.
URL:https://www.protec17.org/event/dol-revenue-auditors-meeting-4/
LOCATION:ONLINE MEETING ONLY
END:VEVENT
END:VCALENDAR