BEGIN:VCALENDAR
VERSION:2.0
PRODID:-//PROTEC17 - ECPv6.15.17.1//NONSGML v1.0//EN
CALSCALE:GREGORIAN
METHOD:PUBLISH
X-WR-CALNAME:PROTEC17
X-ORIGINAL-URL:https://www.protec17.org
X-WR-CALDESC:Events for PROTEC17
REFRESH-INTERVAL;VALUE=DURATION:PT1H
X-Robots-Tag:noindex
X-PUBLISHED-TTL:PT1H
BEGIN:VTIMEZONE
TZID:America/Los_Angeles
BEGIN:DAYLIGHT
TZOFFSETFROM:-0800
TZOFFSETTO:-0700
TZNAME:PDT
DTSTART:20230312T100000
END:DAYLIGHT
BEGIN:STANDARD
TZOFFSETFROM:-0700
TZOFFSETTO:-0800
TZNAME:PST
DTSTART:20231105T090000
END:STANDARD
BEGIN:DAYLIGHT
TZOFFSETFROM:-0800
TZOFFSETTO:-0700
TZNAME:PDT
DTSTART:20240310T100000
END:DAYLIGHT
BEGIN:STANDARD
TZOFFSETFROM:-0700
TZOFFSETTO:-0800
TZNAME:PST
DTSTART:20241103T090000
END:STANDARD
BEGIN:DAYLIGHT
TZOFFSETFROM:-0800
TZOFFSETTO:-0700
TZNAME:PDT
DTSTART:20250309T100000
END:DAYLIGHT
BEGIN:STANDARD
TZOFFSETFROM:-0700
TZOFFSETTO:-0800
TZNAME:PST
DTSTART:20251102T090000
END:STANDARD
END:VTIMEZONE
BEGIN:VEVENT
DTSTART;TZID=America/Los_Angeles:20240601T090000
DTEND;TZID=America/Los_Angeles:20240601T153000
DTSTAMP:20260420T095628
CREATED:20240311T231951Z
LAST-MODIFIED:20240311T231951Z
UID:8504-1717232400-1717255800@www.protec17.org
SUMMARY:Solidarity Summit 2024 (In-Person)
DESCRIPTION:FOR PROTEC17 MEMBER LEADERS (ex. Steward\, Chapter President\, REC Delegate\, etc.\,) \nFor the first time in over a decade\, PROTEC17 will be hosting a full-day\, in-person labor leader conference\, the PROTEC17 Solidarity Summit! Join your fellow union member leaders for what will be a fun\, action-packed day! We’ll gather in person on Sat.\, June 1 from 9 a.m. to 3:30 p.m. Details and location in your personal email and the Member Portal events page HERE. Hope to see you there! \nPlease note that the formal RSVP is a Google docs form\, NOT the RSVP button on the Member Portal event page. Clicking “RSVP” on the Member Portal event will only add it to your “My Events” section in the portal. Make sure to RSVP via the Google form.
URL:https://www.protec17.org/event/solidarity-summit-2024-in-person/
LOCATION:CHECK MEMBER PORTAL
ATTACH;FMTTYPE=image/png:https://www.protec17.org/wp-content/uploads/2024/03/Solidarity-Summit-2024-WEB.png
END:VEVENT
END:VCALENDAR