BEGIN:VCALENDAR
VERSION:2.0
PRODID:-//PROTEC17 - ECPv6.15.17.1//NONSGML v1.0//EN
CALSCALE:GREGORIAN
METHOD:PUBLISH
X-WR-CALNAME:PROTEC17
X-ORIGINAL-URL:https://www.protec17.org
X-WR-CALDESC:Events for PROTEC17
REFRESH-INTERVAL;VALUE=DURATION:PT1H
X-Robots-Tag:noindex
X-PUBLISHED-TTL:PT1H
BEGIN:VTIMEZONE
TZID:America/Los_Angeles
BEGIN:DAYLIGHT
TZOFFSETFROM:-0800
TZOFFSETTO:-0700
TZNAME:PDT
DTSTART:20230312T100000
END:DAYLIGHT
BEGIN:STANDARD
TZOFFSETFROM:-0700
TZOFFSETTO:-0800
TZNAME:PST
DTSTART:20231105T090000
END:STANDARD
BEGIN:DAYLIGHT
TZOFFSETFROM:-0800
TZOFFSETTO:-0700
TZNAME:PDT
DTSTART:20240310T100000
END:DAYLIGHT
BEGIN:STANDARD
TZOFFSETFROM:-0700
TZOFFSETTO:-0800
TZNAME:PST
DTSTART:20241103T090000
END:STANDARD
BEGIN:DAYLIGHT
TZOFFSETFROM:-0800
TZOFFSETTO:-0700
TZNAME:PDT
DTSTART:20250309T100000
END:DAYLIGHT
BEGIN:STANDARD
TZOFFSETFROM:-0700
TZOFFSETTO:-0800
TZNAME:PST
DTSTART:20251102T090000
END:STANDARD
END:VTIMEZONE
BEGIN:VEVENT
DTSTART;TZID=America/Los_Angeles:20240402T120000
DTEND;TZID=America/Los_Angeles:20240402T130000
DTSTAMP:20260422T224933
CREATED:20240313T231140Z
LAST-MODIFIED:20240313T231140Z
UID:8523-1712059200-1712062800@www.protec17.org
SUMMARY:Portland Chapter Meeting (Hybrid)
DESCRIPTION:Please join your fellow PROTEC17 Portland Chapter members for a chapter meeting. Please note that first Tuesday meetings have a hybrid option. Check your personal email or the Member Portal events page here for more details\, including how to join. Hope to see you there!
URL:https://www.protec17.org/event/portland-chapter-meeting-hybrid-5/
LOCATION:Hybrid
ATTACH;FMTTYPE=image/png:https://www.protec17.org/wp-content/uploads/2018/12/Portland.png
ORGANIZER;CN="Rachel Whiteside":MAILTO:rachel@protec17.org
END:VEVENT
BEGIN:VEVENT
DTSTART;TZID=America/Los_Angeles:20240402T173000
DTEND;TZID=America/Los_Angeles:20240402T203000
DTSTAMP:20260422T224933
CREATED:20240312T201125Z
LAST-MODIFIED:20240319T165530Z
UID:8511-1712079000-1712089800@www.protec17.org
SUMMARY:Labor Teach-In
DESCRIPTION:Join other Seattle-based union members and Labor partners for an in-person workshop on April 2 to explore key historical events\, concepts\, and ideologies that underpin the current round of violence in Gaza\, and the occupied Palestinian territories. \nIn collaboration with MLK Labor Council\, this workshop will be an opportunity to bring your experiences\, thoughts\, and questions forward. \nPlease come prepared to participate\, ask questions\, and listen to each other — we will be using each other’s knowledge and inquiry to strengthen our own thinking around the context and the conflict. \nPlease note that the event is space limited. To provide both a safe and impactful experience\, we are capping this teach-in at 75 people. We acknowledge that unexpected life circumstances arise and just ask that you are mindful about registering for the event with commitment. You can find registration information in your personal email or the Member Portal events page HERE.
URL:https://www.protec17.org/event/labor-teach-in/
CATEGORIES:racial justice
ATTACH;FMTTYPE=image/png:https://www.protec17.org/wp-content/uploads/2024/03/Labor-Teach-In-WEB-1.png
END:VEVENT
END:VCALENDAR