BEGIN:VCALENDAR
VERSION:2.0
PRODID:-//PROTEC17 - ECPv6.15.17.1//NONSGML v1.0//EN
CALSCALE:GREGORIAN
METHOD:PUBLISH
X-ORIGINAL-URL:https://www.protec17.org
X-WR-CALDESC:Events for PROTEC17
REFRESH-INTERVAL;VALUE=DURATION:PT1H
X-Robots-Tag:noindex
X-PUBLISHED-TTL:PT1H
BEGIN:VTIMEZONE
TZID:America/Los_Angeles
BEGIN:DAYLIGHT
TZOFFSETFROM:-0800
TZOFFSETTO:-0700
TZNAME:PDT
DTSTART:20230312T100000
END:DAYLIGHT
BEGIN:STANDARD
TZOFFSETFROM:-0700
TZOFFSETTO:-0800
TZNAME:PST
DTSTART:20231105T090000
END:STANDARD
BEGIN:DAYLIGHT
TZOFFSETFROM:-0800
TZOFFSETTO:-0700
TZNAME:PDT
DTSTART:20240310T100000
END:DAYLIGHT
BEGIN:STANDARD
TZOFFSETFROM:-0700
TZOFFSETTO:-0800
TZNAME:PST
DTSTART:20241103T090000
END:STANDARD
BEGIN:DAYLIGHT
TZOFFSETFROM:-0800
TZOFFSETTO:-0700
TZNAME:PDT
DTSTART:20250309T100000
END:DAYLIGHT
BEGIN:STANDARD
TZOFFSETFROM:-0700
TZOFFSETTO:-0800
TZNAME:PST
DTSTART:20251102T090000
END:STANDARD
END:VTIMEZONE
BEGIN:VEVENT
DTSTART;TZID=America/Los_Angeles:20240110T120000
DTEND;TZID=America/Los_Angeles:20240110T130000
DTSTAMP:20260424T015809
CREATED:20231109T214758Z
LAST-MODIFIED:20231109T214758Z
UID:8038-1704888000-1704891600@www.protec17.org
SUMMARY:Training: 3 Easy Ways to Advocate for Pro-Worker Legislation in WA State! (Virtual)
DESCRIPTION:Join your fellow union members to learn about three super easy ways you can advocate (remotely) for pro-worker legislation in Washington state this year. Tools for everyone–introverts and extroverts alike! Open to all PROTEC17 Members. No political experience necessary. PROTEC17 members\, please check your home email or the Member Portal Events page HERE for more info.
URL:https://www.protec17.org/event/training-3-easy-ways-to-advocate-for-pro-worker-legislation-in-wa-state-virtual/
LOCATION:ONLINE MEETING ONLY
ATTACH;FMTTYPE=image/png:https://www.protec17.org/wp-content/uploads/2023/01/political-advocacy-training-feb.-2023.png
END:VEVENT
BEGIN:VEVENT
DTSTART;TZID=America/Los_Angeles:20240110T120000
DTEND;TZID=America/Los_Angeles:20240110T130000
DTSTAMP:20260424T015809
CREATED:20231214T012606Z
LAST-MODIFIED:20231214T012606Z
UID:8132-1704888000-1704891600@www.protec17.org
SUMMARY:WSDOT Chapter Meeting (Virtual)
DESCRIPTION:Join your fellow WSDOT members for our next chapter meeting! Detailed information on how to join this online meeting\, including how to get into the meeting\, can be found in your personal email or under the “Events” section in the Member Portal here. Hope to see you all there!
URL:https://www.protec17.org/event/wsdot-chapter-meeting-virtual-8/
LOCATION:ONLINE CHAPTER MEETING VIA ZOOM
ATTACH;FMTTYPE=image/png:https://www.protec17.org/wp-content/uploads/2018/12/wsdot-logo-e1544476767123.png
ORGANIZER;CN="Sarah Lorenzini":MAILTO:sarah@protec17.org
END:VEVENT
BEGIN:VEVENT
DTSTART;TZID=America/Los_Angeles:20240110T173000
DTEND;TZID=America/Los_Angeles:20240110T183000
DTSTAMP:20260424T015809
CREATED:20231214T012435Z
LAST-MODIFIED:20231214T012435Z
UID:8130-1704907800-1704911400@www.protec17.org
SUMMARY:Tacoma Chapter Meeting (Virtual)
DESCRIPTION:PROTEC17 City of Tacoma members\, join your fellow union siblings for our next chapter meeting. Please check your home email or the events page in the Member Portal for all the details\, including how to join the meeting. Hope to see you then!
URL:https://www.protec17.org/event/tacoma-chapter-meeting-virtual-6/
LOCATION:ONLINE CHAPTER MEETING VIA ZOOM
ATTACH;FMTTYPE=image/png:https://www.protec17.org/wp-content/uploads/2018/12/tacoma-e1544559258741.png
ORGANIZER;CN="Brent Wagar":MAILTO:brent@protec17.org
END:VEVENT
END:VCALENDAR