BEGIN:VCALENDAR
VERSION:2.0
PRODID:-//PROTEC17 - ECPv6.15.20//NONSGML v1.0//EN
CALSCALE:GREGORIAN
METHOD:PUBLISH
X-ORIGINAL-URL:https://www.protec17.org
X-WR-CALDESC:Events for PROTEC17
REFRESH-INTERVAL;VALUE=DURATION:PT1H
X-Robots-Tag:noindex
X-PUBLISHED-TTL:PT1H
BEGIN:VTIMEZONE
TZID:America/Los_Angeles
BEGIN:DAYLIGHT
TZOFFSETFROM:-0800
TZOFFSETTO:-0700
TZNAME:PDT
DTSTART:20220313T100000
END:DAYLIGHT
BEGIN:STANDARD
TZOFFSETFROM:-0700
TZOFFSETTO:-0800
TZNAME:PST
DTSTART:20221106T090000
END:STANDARD
BEGIN:DAYLIGHT
TZOFFSETFROM:-0800
TZOFFSETTO:-0700
TZNAME:PDT
DTSTART:20230312T100000
END:DAYLIGHT
BEGIN:STANDARD
TZOFFSETFROM:-0700
TZOFFSETTO:-0800
TZNAME:PST
DTSTART:20231105T090000
END:STANDARD
BEGIN:DAYLIGHT
TZOFFSETFROM:-0800
TZOFFSETTO:-0700
TZNAME:PDT
DTSTART:20240310T100000
END:DAYLIGHT
BEGIN:STANDARD
TZOFFSETFROM:-0700
TZOFFSETTO:-0800
TZNAME:PST
DTSTART:20241103T090000
END:STANDARD
END:VTIMEZONE
BEGIN:VEVENT
DTSTART;TZID=America/Los_Angeles:20231108T120000
DTEND;TZID=America/Los_Angeles:20231108T130000
DTSTAMP:20260424T092100
CREATED:20221221T003316Z
LAST-MODIFIED:20221221T003316Z
UID:6678-1699444800-1699448400@www.protec17.org
SUMMARY:Steward Training - Part 2 (Virtual)
DESCRIPTION:Join your fellow PROTEC17 union stewards on Wed.\, Nov. 8 for Steward Training – Part 2! We’ll dig deeper into activating new members\, how to organize your coworkers\, and how to take action on issues impacting your workplace. Open to all stewards\, new and experienced! Members will need to attend Parts 1 and 2 before officially becoming a Steward. PROTEC17 members\, please check your email and/or the Member Portal for more info and meeting details. \n 
URL:https://www.protec17.org/event/steward-training-part-2-virtual-13/
LOCATION:ONLINE MEETING VIA ZOOM
ATTACH;FMTTYPE=image/jpeg:https://www.protec17.org/wp-content/uploads/2022/07/steward-training.jpeg
END:VEVENT
BEGIN:VEVENT
DTSTART;TZID=America/Los_Angeles:20231108T120000
DTEND;TZID=America/Los_Angeles:20231108T130000
DTSTAMP:20260424T092100
CREATED:20230112T195545Z
LAST-MODIFIED:20231003T215834Z
UID:6875-1699444800-1699448400@www.protec17.org
SUMMARY:WSDOT Chapter Meeting (Virtual)
DESCRIPTION:Join your fellow WSDOT members for our next chapter meeting! Detailed information on how to join this online meeting\, including how to get into the meeting\, can be found in your personal email or under the “Events” section in the Member Portal here. As a fun incentive\, we’ll also have a raffle for members who attend the meeting. Three lucky members will receive Safeway gift cards and two folks will receive any swag item of their choice from our PROTEC17 store. Hope to see you all there!
URL:https://www.protec17.org/event/wsdot-chapter-meeting-virtual-11/
LOCATION:ONLINE CHAPTER MEETING VIA ZOOM
ATTACH;FMTTYPE=image/png:https://www.protec17.org/wp-content/uploads/2018/12/wsdot-logo-e1544476767123.png
ORGANIZER;CN="Sarah Lorenzini":MAILTO:sarah@protec17.org
END:VEVENT
BEGIN:VEVENT
DTSTART;TZID=America/Los_Angeles:20231108T120000
DTEND;TZID=America/Los_Angeles:20231108T130000
DTSTAMP:20260424T092100
CREATED:20231031T220102Z
LAST-MODIFIED:20231031T220727Z
UID:7987-1699444800-1699448400@www.protec17.org
SUMMARY:King County Public Health Member Meeting (Virtual)
DESCRIPTION:Join your fellow PROTEC17 King County Public Health (KCPH) union siblings for a member meeting on Wed.\, Nov. 8 at 12 p.m. noon. We will share updates and progress we have made in our campaign. This will also serve as a chance for us to talk about our next steps. For more info\, including how to join\, please check your personal email or the Member Portal events page HERE.
URL:https://www.protec17.org/event/king-county-public-health-member-meeting-virtual/
LOCATION:ONLINE MEETING ONLY
ATTACH;FMTTYPE=image/png:https://www.protec17.org/wp-content/uploads/2023/09/King-County-Public-Health.png
END:VEVENT
BEGIN:VEVENT
DTSTART;TZID=America/Los_Angeles:20231108T173000
DTEND;TZID=America/Los_Angeles:20231108T183000
DTSTAMP:20260424T092100
CREATED:20230125T202848Z
LAST-MODIFIED:20230125T202848Z
UID:6969-1699464600-1699468200@www.protec17.org
SUMMARY:Tacoma Chapter Meeting (Virtual)
DESCRIPTION:PROTEC17 City of Tacoma members\, join your fellow union siblings for our next chapter meeting. Please check your home email or the events page in the Member Portal for all the details and online log-in information. See you at the meeting!
URL:https://www.protec17.org/event/tacoma-chapter-meeting-virtual-11/
LOCATION:ONLINE CHAPTER MEETING VIA ZOOM
ATTACH;FMTTYPE=image/png:https://www.protec17.org/wp-content/uploads/2018/12/tacoma-e1544559258741.png
ORGANIZER;CN="Brent Wagar":MAILTO:brent@protec17.org
END:VEVENT
END:VCALENDAR