BEGIN:VCALENDAR
VERSION:2.0
PRODID:-//PROTEC17 - ECPv6.15.20//NONSGML v1.0//EN
CALSCALE:GREGORIAN
METHOD:PUBLISH
X-WR-CALNAME:PROTEC17
X-ORIGINAL-URL:https://www.protec17.org
X-WR-CALDESC:Events for PROTEC17
REFRESH-INTERVAL;VALUE=DURATION:PT1H
X-Robots-Tag:noindex
X-PUBLISHED-TTL:PT1H
BEGIN:VTIMEZONE
TZID:America/Los_Angeles
BEGIN:DAYLIGHT
TZOFFSETFROM:-0800
TZOFFSETTO:-0700
TZNAME:PDT
DTSTART:20220313T100000
END:DAYLIGHT
BEGIN:STANDARD
TZOFFSETFROM:-0700
TZOFFSETTO:-0800
TZNAME:PST
DTSTART:20221106T090000
END:STANDARD
BEGIN:DAYLIGHT
TZOFFSETFROM:-0800
TZOFFSETTO:-0700
TZNAME:PDT
DTSTART:20230312T100000
END:DAYLIGHT
BEGIN:STANDARD
TZOFFSETFROM:-0700
TZOFFSETTO:-0800
TZNAME:PST
DTSTART:20231105T090000
END:STANDARD
BEGIN:DAYLIGHT
TZOFFSETFROM:-0800
TZOFFSETTO:-0700
TZNAME:PDT
DTSTART:20240310T100000
END:DAYLIGHT
BEGIN:STANDARD
TZOFFSETFROM:-0700
TZOFFSETTO:-0800
TZNAME:PST
DTSTART:20241103T090000
END:STANDARD
END:VTIMEZONE
BEGIN:VEVENT
DTSTART;TZID=America/Los_Angeles:20231017T180000
DTEND;TZID=America/Los_Angeles:20231017T190000
DTSTAMP:20260424T105935
CREATED:20231006T185128Z
LAST-MODIFIED:20231006T185128Z
UID:7903-1697565600-1697569200@www.protec17.org
SUMMARY:Spokane County Chapter Meeting (Virtual)
DESCRIPTION:PROTEC17 Spokane County Members! Join your fellow union siblings for your next chapter meeting on Tues.\, Oct. 17 at 6 p.m. We will meet virtually via Zoom. This month’s meeting will also serve as our contract negotiations kick off! Our bargaining team will share the proposals that they’ve been hard at work on and we’ll open it up to get feedback from all of membership. Hope to see you there! For full details\, including how to join\, please check your personal email or the Member Portal here.
URL:https://www.protec17.org/event/spokane-county-chapter-meeting-virtual-2/
LOCATION:ONLINE CHAPTER MEETING VIA ZOOM
ATTACH;FMTTYPE=image/png:https://www.protec17.org/wp-content/uploads/2021/08/SPOKANE-LOGO-transparent-e1629479632951.png
END:VEVENT
END:VCALENDAR