BEGIN:VCALENDAR
VERSION:2.0
PRODID:-//PROTEC17 - ECPv6.15.20//NONSGML v1.0//EN
CALSCALE:GREGORIAN
METHOD:PUBLISH
X-ORIGINAL-URL:https://www.protec17.org
X-WR-CALDESC:Events for PROTEC17
REFRESH-INTERVAL;VALUE=DURATION:PT1H
X-Robots-Tag:noindex
X-PUBLISHED-TTL:PT1H
BEGIN:VTIMEZONE
TZID:America/Los_Angeles
BEGIN:DAYLIGHT
TZOFFSETFROM:-0800
TZOFFSETTO:-0700
TZNAME:PDT
DTSTART:20220313T100000
END:DAYLIGHT
BEGIN:STANDARD
TZOFFSETFROM:-0700
TZOFFSETTO:-0800
TZNAME:PST
DTSTART:20221106T090000
END:STANDARD
BEGIN:DAYLIGHT
TZOFFSETFROM:-0800
TZOFFSETTO:-0700
TZNAME:PDT
DTSTART:20230312T100000
END:DAYLIGHT
BEGIN:STANDARD
TZOFFSETFROM:-0700
TZOFFSETTO:-0800
TZNAME:PST
DTSTART:20231105T090000
END:STANDARD
BEGIN:DAYLIGHT
TZOFFSETFROM:-0800
TZOFFSETTO:-0700
TZNAME:PDT
DTSTART:20240310T100000
END:DAYLIGHT
BEGIN:STANDARD
TZOFFSETFROM:-0700
TZOFFSETTO:-0800
TZNAME:PST
DTSTART:20241103T090000
END:STANDARD
END:VTIMEZONE
BEGIN:VEVENT
DTSTART;VALUE=DATE:20230501
DTEND;VALUE=DATE:20230601
DTSTAMP:20260424T185532
CREATED:20230421T212729Z
LAST-MODIFIED:20230421T212729Z
UID:7485-1682899200-1685577599@www.protec17.org
SUMMARY:AANHPI Month + Jewish-American Heritage Month
DESCRIPTION:
URL:https://www.protec17.org/event/aanhpi-month-jewish-american-heritage-month/
CATEGORIES:racial justice
ATTACH;FMTTYPE=image/png:https://www.protec17.org/wp-content/uploads/2023/04/may-2023-holiday-months-FOR-WEB.png
END:VEVENT
BEGIN:VEVENT
DTSTART;TZID=America/Los_Angeles:20230524T120000
DTEND;TZID=America/Los_Angeles:20230524T130000
DTSTAMP:20260424T185532
CREATED:20230210T213303Z
LAST-MODIFIED:20230210T213303Z
UID:7169-1684929600-1684933200@www.protec17.org
SUMMARY:King County Chapter Meeting (Virtual)
DESCRIPTION:PROTEC17 King County Chapter members: join your fellow union siblings for our next chapter meeting. Please see your email or the Member Portal events page for full details\, including how to access the meeting.
URL:https://www.protec17.org/event/king-county-chapter-meeting-virtual-3/
LOCATION:ONLINE CHAPTER MEETING VIA ZOOM
ATTACH;FMTTYPE=image/png:https://www.protec17.org/wp-content/uploads/2022/07/King-County-2.png
END:VEVENT
BEGIN:VEVENT
DTSTART;TZID=America/Los_Angeles:20230524T170000
DTEND;TZID=America/Los_Angeles:20230524T180000
DTSTAMP:20260424T185532
CREATED:20230508T232427Z
LAST-MODIFIED:20230508T232427Z
UID:7508-1684947600-1684951200@www.protec17.org
SUMMARY:*EVENING OPTION* PROTEC17 Presents: Union 101 Training! (Virtual)
DESCRIPTION:First time being a union member? Been a member for awhile\, but not sure what PROTEC17 does? Join us for a quick Union 101 training to learn more about your union\, what unions do\, and opportunity to ask your lingering questions! Open to all bargaining unit members\, you do not need to have signed a membership card to attend. Please check your email or the Member Portal Events page for meeting details. \n 
URL:https://www.protec17.org/event/evening-option-protec17-presents-union-101-training-virtual/
LOCATION:ONLINE MEETING VIA ZOOM
ATTACH;FMTTYPE=image/png:https://www.protec17.org/wp-content/uploads/2022/08/union-101-training.png
END:VEVENT
END:VCALENDAR