BEGIN:VCALENDAR
VERSION:2.0
PRODID:-//PROTEC17 - ECPv6.15.20//NONSGML v1.0//EN
CALSCALE:GREGORIAN
METHOD:PUBLISH
X-ORIGINAL-URL:https://www.protec17.org
X-WR-CALDESC:Events for PROTEC17
REFRESH-INTERVAL;VALUE=DURATION:PT1H
X-Robots-Tag:noindex
X-PUBLISHED-TTL:PT1H
BEGIN:VTIMEZONE
TZID:America/Los_Angeles
BEGIN:DAYLIGHT
TZOFFSETFROM:-0800
TZOFFSETTO:-0700
TZNAME:PDT
DTSTART:20220313T100000
END:DAYLIGHT
BEGIN:STANDARD
TZOFFSETFROM:-0700
TZOFFSETTO:-0800
TZNAME:PST
DTSTART:20221106T090000
END:STANDARD
BEGIN:DAYLIGHT
TZOFFSETFROM:-0800
TZOFFSETTO:-0700
TZNAME:PDT
DTSTART:20230312T100000
END:DAYLIGHT
BEGIN:STANDARD
TZOFFSETFROM:-0700
TZOFFSETTO:-0800
TZNAME:PST
DTSTART:20231105T090000
END:STANDARD
BEGIN:DAYLIGHT
TZOFFSETFROM:-0800
TZOFFSETTO:-0700
TZNAME:PDT
DTSTART:20240310T100000
END:DAYLIGHT
BEGIN:STANDARD
TZOFFSETFROM:-0700
TZOFFSETTO:-0800
TZNAME:PST
DTSTART:20241103T090000
END:STANDARD
END:VTIMEZONE
BEGIN:VEVENT
DTSTART;VALUE=DATE:20230501
DTEND;VALUE=DATE:20230601
DTSTAMP:20260424T185623
CREATED:20230421T212729Z
LAST-MODIFIED:20230421T212729Z
UID:7485-1682899200-1685577599@www.protec17.org
SUMMARY:AANHPI Month + Jewish-American Heritage Month
DESCRIPTION:
URL:https://www.protec17.org/event/aanhpi-month-jewish-american-heritage-month/
CATEGORIES:racial justice
ATTACH;FMTTYPE=image/png:https://www.protec17.org/wp-content/uploads/2023/04/may-2023-holiday-months-FOR-WEB.png
END:VEVENT
BEGIN:VEVENT
DTSTART;VALUE=DATE:20230507
DTEND;VALUE=DATE:20230514
DTSTAMP:20260424T185623
CREATED:20230421T212207Z
LAST-MODIFIED:20230421T212207Z
UID:7482-1683417600-1684022399@www.protec17.org
SUMMARY:Public Service Recognition Week: May 7-13
DESCRIPTION:
URL:https://www.protec17.org/event/public-service-recognition-week-may-7-13/
ATTACH;FMTTYPE=image/png:https://www.protec17.org/wp-content/uploads/2023/04/public-service-recognition-week-2023-FOR-WEB.png
END:VEVENT
BEGIN:VEVENT
DTSTART;TZID=America/Los_Angeles:20230511T120000
DTEND;TZID=America/Los_Angeles:20230511T130000
DTSTAMP:20260424T185623
CREATED:20230111T001429Z
LAST-MODIFIED:20230111T001429Z
UID:6847-1683806400-1683810000@www.protec17.org
SUMMARY:Seattle Chapter Meeting (Virtual)
DESCRIPTION:Join your fellow PROTEC17 Seattle members for the next chapter meeting! Detailed information on how to join the online chapter meeting is emailed out to members’ personal emails. You can also check the Member Portal “Events” page here or ask a co-worker\, steward\, or your union rep if you didn’t receive the email. \n  \n  \n 
URL:https://www.protec17.org/event/seattle-chapter-meeting-virtual-4/
LOCATION:ONLINE CHAPTER MEETING VIA ZOOM
ATTACH;FMTTYPE=image/png:https://www.protec17.org/wp-content/uploads/2018/12/CityofSeattle_logo_vertical_blue-black-1-e1544562937171.png
END:VEVENT
END:VCALENDAR