BEGIN:VCALENDAR
VERSION:2.0
PRODID:-//PROTEC17 - ECPv6.15.20//NONSGML v1.0//EN
CALSCALE:GREGORIAN
METHOD:PUBLISH
X-ORIGINAL-URL:https://www.protec17.org
X-WR-CALDESC:Events for PROTEC17
REFRESH-INTERVAL;VALUE=DURATION:PT1H
X-Robots-Tag:noindex
X-PUBLISHED-TTL:PT1H
BEGIN:VTIMEZONE
TZID:America/Los_Angeles
BEGIN:DAYLIGHT
TZOFFSETFROM:-0800
TZOFFSETTO:-0700
TZNAME:PDT
DTSTART:20220313T100000
END:DAYLIGHT
BEGIN:STANDARD
TZOFFSETFROM:-0700
TZOFFSETTO:-0800
TZNAME:PST
DTSTART:20221106T090000
END:STANDARD
BEGIN:DAYLIGHT
TZOFFSETFROM:-0800
TZOFFSETTO:-0700
TZNAME:PDT
DTSTART:20230312T100000
END:DAYLIGHT
BEGIN:STANDARD
TZOFFSETFROM:-0700
TZOFFSETTO:-0800
TZNAME:PST
DTSTART:20231105T090000
END:STANDARD
BEGIN:DAYLIGHT
TZOFFSETFROM:-0800
TZOFFSETTO:-0700
TZNAME:PDT
DTSTART:20240310T100000
END:DAYLIGHT
BEGIN:STANDARD
TZOFFSETFROM:-0700
TZOFFSETTO:-0800
TZNAME:PST
DTSTART:20241103T090000
END:STANDARD
END:VTIMEZONE
BEGIN:VEVENT
DTSTART;TZID=America/Los_Angeles:20230321T083000
DTEND;TZID=America/Los_Angeles:20230321T153000
DTSTAMP:20260425T004951
CREATED:20230314T182627Z
LAST-MODIFIED:20230314T184058Z
UID:7254-1679387400-1679412600@www.protec17.org
SUMMARY:Seattle Coalition of City Unions (CCU) - Leader Training
DESCRIPTION:PROTEC17 Seattle member leaders (chapter officers\, stewards\, activists\, etc.\,)! Join together with your fellow union siblings from the Seattle Coalition of City Unions (CCU) IN PERSON on Tues.\, March 21 from 8:30 a.m. to 3:30 p.m. at the Labor Temple (5030 1st Ave S) for a training and action on how to support your collective contract negotiations with the City. Check your personal email for more info and RSVP in the Member Portal. See you there!
URL:https://www.protec17.org/event/seattle-coalition-of-city-unions-ccu-leader-training/
LOCATION:Labor Temple\, 5030 1st Ave S\, Seattle\, WA\, 98134\, United States
ATTACH;FMTTYPE=image/png:https://www.protec17.org/wp-content/uploads/2022/11/sticker-up-event-image.png
END:VEVENT
END:VCALENDAR