BEGIN:VCALENDAR
VERSION:2.0
PRODID:-//PROTEC17 - ECPv6.15.20//NONSGML v1.0//EN
CALSCALE:GREGORIAN
METHOD:PUBLISH
X-WR-CALNAME:PROTEC17
X-ORIGINAL-URL:https://www.protec17.org
X-WR-CALDESC:Events for PROTEC17
REFRESH-INTERVAL;VALUE=DURATION:PT1H
X-Robots-Tag:noindex
X-PUBLISHED-TTL:PT1H
BEGIN:VTIMEZONE
TZID:America/Los_Angeles
BEGIN:DAYLIGHT
TZOFFSETFROM:-0800
TZOFFSETTO:-0700
TZNAME:PDT
DTSTART:20220313T100000
END:DAYLIGHT
BEGIN:STANDARD
TZOFFSETFROM:-0700
TZOFFSETTO:-0800
TZNAME:PST
DTSTART:20221106T090000
END:STANDARD
BEGIN:DAYLIGHT
TZOFFSETFROM:-0800
TZOFFSETTO:-0700
TZNAME:PDT
DTSTART:20230312T100000
END:DAYLIGHT
BEGIN:STANDARD
TZOFFSETFROM:-0700
TZOFFSETTO:-0800
TZNAME:PST
DTSTART:20231105T090000
END:STANDARD
BEGIN:DAYLIGHT
TZOFFSETFROM:-0800
TZOFFSETTO:-0700
TZNAME:PDT
DTSTART:20240310T100000
END:DAYLIGHT
BEGIN:STANDARD
TZOFFSETFROM:-0700
TZOFFSETTO:-0800
TZNAME:PST
DTSTART:20241103T090000
END:STANDARD
END:VTIMEZONE
BEGIN:VEVENT
DTSTART;TZID=America/Los_Angeles:20230222T113000
DTEND;TZID=America/Los_Angeles:20230222T133000
DTSTAMP:20260425T040013
CREATED:20230216T003226Z
LAST-MODIFIED:20230216T003226Z
UID:7199-1677065400-1677072600@www.protec17.org
SUMMARY:Coalition of City Unions (CCU) Action Meeting
DESCRIPTION:PROTEC17 Seattle members! Join your fellow coalition members for an Action Meeting IN PERSON! Stop by the Seattle Municipal Tower (SMT) in Room 4080 anytime between 11:30 a.m. and 1:30 p.m. Please check your personal email or log into the Member Portal and find all details here: https://members.protec17.org/event/coalition-of-cit…u-action-meeting/
URL:https://www.protec17.org/event/coalition-of-city-unions-ccu-action-meeting/
LOCATION:Seattle Municipal Tower Room 4080\, 700 5th Ave\, Seattle\, WA\, 98104\, United States
ATTACH;FMTTYPE=image/png:https://www.protec17.org/wp-content/uploads/2022/11/sticker-up-event-image.png
END:VEVENT
END:VCALENDAR