BEGIN:VCALENDAR
VERSION:2.0
PRODID:-//PROTEC17 - ECPv6.15.20//NONSGML v1.0//EN
CALSCALE:GREGORIAN
METHOD:PUBLISH
X-ORIGINAL-URL:https://www.protec17.org
X-WR-CALDESC:Events for PROTEC17
REFRESH-INTERVAL;VALUE=DURATION:PT1H
X-Robots-Tag:noindex
X-PUBLISHED-TTL:PT1H
BEGIN:VTIMEZONE
TZID:America/Los_Angeles
BEGIN:DAYLIGHT
TZOFFSETFROM:-0800
TZOFFSETTO:-0700
TZNAME:PDT
DTSTART:20220313T100000
END:DAYLIGHT
BEGIN:STANDARD
TZOFFSETFROM:-0700
TZOFFSETTO:-0800
TZNAME:PST
DTSTART:20221106T090000
END:STANDARD
BEGIN:DAYLIGHT
TZOFFSETFROM:-0800
TZOFFSETTO:-0700
TZNAME:PDT
DTSTART:20230312T100000
END:DAYLIGHT
BEGIN:STANDARD
TZOFFSETFROM:-0700
TZOFFSETTO:-0800
TZNAME:PST
DTSTART:20231105T090000
END:STANDARD
BEGIN:DAYLIGHT
TZOFFSETFROM:-0800
TZOFFSETTO:-0700
TZNAME:PDT
DTSTART:20240310T100000
END:DAYLIGHT
BEGIN:STANDARD
TZOFFSETFROM:-0700
TZOFFSETTO:-0800
TZNAME:PST
DTSTART:20241103T090000
END:STANDARD
END:VTIMEZONE
BEGIN:VEVENT
DTSTART;TZID=America/Los_Angeles:20230130T130000
DTEND;TZID=America/Los_Angeles:20230130T140000
DTSTAMP:20260425T040113
CREATED:20230119T002620Z
LAST-MODIFIED:20230119T002620Z
UID:6900-1675083600-1675087200@www.protec17.org
SUMMARY:AFSCME Local 189 - Paid Leave Oregon Info Session
DESCRIPTION:PROTEC17 members are invited to join AFSCME Local 189 as they host their Paid Leave Oregon info sessions. Do you have questions about Paid Leave Oregon and how it will affect you? Curious about what the benefits are? Join your fellow union siblings to learn more. There will also be a Q&A with the Oregon Employment Division. \nMore info here: https://www.afscme189.com/calendar-events/paid-leave-oregon-info-session 
URL:https://www.protec17.org/event/afscme-local-189-paid-leave-oregon-info-session/
LOCATION:ONLINE MEETING VIA ZOOM
ATTACH;FMTTYPE=image/jpeg:https://www.protec17.org/wp-content/uploads/2023/01/PAID_LEAVE_OREGON_INFO_SESSION.jpg
END:VEVENT
END:VCALENDAR