BEGIN:VCALENDAR
VERSION:2.0
PRODID:-//PROTEC17 - ECPv6.15.17.1//NONSGML v1.0//EN
CALSCALE:GREGORIAN
METHOD:PUBLISH
X-ORIGINAL-URL:https://www.protec17.org
X-WR-CALDESC:Events for PROTEC17
REFRESH-INTERVAL;VALUE=DURATION:PT1H
X-Robots-Tag:noindex
X-PUBLISHED-TTL:PT1H
BEGIN:VTIMEZONE
TZID:America/Los_Angeles
BEGIN:DAYLIGHT
TZOFFSETFROM:-0800
TZOFFSETTO:-0700
TZNAME:PDT
DTSTART:20220313T100000
END:DAYLIGHT
BEGIN:STANDARD
TZOFFSETFROM:-0700
TZOFFSETTO:-0800
TZNAME:PST
DTSTART:20221106T090000
END:STANDARD
BEGIN:DAYLIGHT
TZOFFSETFROM:-0800
TZOFFSETTO:-0700
TZNAME:PDT
DTSTART:20230312T100000
END:DAYLIGHT
BEGIN:STANDARD
TZOFFSETFROM:-0700
TZOFFSETTO:-0800
TZNAME:PST
DTSTART:20231105T090000
END:STANDARD
BEGIN:DAYLIGHT
TZOFFSETFROM:-0800
TZOFFSETTO:-0700
TZNAME:PDT
DTSTART:20240310T100000
END:DAYLIGHT
BEGIN:STANDARD
TZOFFSETFROM:-0700
TZOFFSETTO:-0800
TZNAME:PST
DTSTART:20241103T090000
END:STANDARD
END:VTIMEZONE
BEGIN:VEVENT
DTSTART;TZID=America/Los_Angeles:20230119T120000
DTEND;TZID=America/Los_Angeles:20230119T130000
DTSTAMP:20260421T123745
CREATED:20230111T235320Z
LAST-MODIFIED:20230111T235320Z
UID:6854-1674129600-1674133200@www.protec17.org
SUMMARY:King County Steward Meeting (Virtual)
DESCRIPTION:Join your fellow King County Stewards for our next King County Steward Monthly Meeting! Come meet Stewards from other departments\, learn about the new Steward Corner on the Member Portal\, and more. Open to all King County Stewards! Please check your email for full details and meeting info. Please also note that this meeting will be recurring on every third Thursday of the month unless state otherwise.
URL:https://www.protec17.org/event/king-county-steward-meeting-virtual-10/
LOCATION:ONLINE MEETING ONLY
END:VEVENT
BEGIN:VEVENT
DTSTART;TZID=America/Los_Angeles:20230119T170000
DTEND;TZID=America/Los_Angeles:20230119T180000
DTSTAMP:20260421T123745
CREATED:20230105T234306Z
LAST-MODIFIED:20230105T234306Z
UID:6717-1674147600-1674151200@www.protec17.org
SUMMARY:Portland Chapter Meeting (Virtual)
DESCRIPTION:Detailed information on how to join the online chapter meeting is emailed out to members usually around a week before the meeting\, followed by a reminder email the day before your chapter meeting. Please check your home email address\, check out this event in the Member Portal\, or ask a co-worker/steward/your union rep if you don’t receive the email. Hope to see you all there!
URL:https://www.protec17.org/event/portland-chapter-meeting-virtual-3/
LOCATION:ONLINE CHAPTER MEETING VIA ZOOM
ATTACH;FMTTYPE=image/png:https://www.protec17.org/wp-content/uploads/2022/03/Portland-Chapter-Meeting-April-2022.png
ORGANIZER;CN="Rachel Whiteside":MAILTO:rachel@protec17.org
END:VEVENT
END:VCALENDAR