BEGIN:VCALENDAR
VERSION:2.0
PRODID:-//PROTEC17 - ECPv6.15.20//NONSGML v1.0//EN
CALSCALE:GREGORIAN
METHOD:PUBLISH
X-WR-CALNAME:PROTEC17
X-ORIGINAL-URL:https://www.protec17.org
X-WR-CALDESC:Events for PROTEC17
REFRESH-INTERVAL;VALUE=DURATION:PT1H
X-Robots-Tag:noindex
X-PUBLISHED-TTL:PT1H
BEGIN:VTIMEZONE
TZID:America/Los_Angeles
BEGIN:DAYLIGHT
TZOFFSETFROM:-0800
TZOFFSETTO:-0700
TZNAME:PDT
DTSTART:20220313T100000
END:DAYLIGHT
BEGIN:STANDARD
TZOFFSETFROM:-0700
TZOFFSETTO:-0800
TZNAME:PST
DTSTART:20221106T090000
END:STANDARD
BEGIN:DAYLIGHT
TZOFFSETFROM:-0800
TZOFFSETTO:-0700
TZNAME:PDT
DTSTART:20230312T100000
END:DAYLIGHT
BEGIN:STANDARD
TZOFFSETFROM:-0700
TZOFFSETTO:-0800
TZNAME:PST
DTSTART:20231105T090000
END:STANDARD
BEGIN:DAYLIGHT
TZOFFSETFROM:-0800
TZOFFSETTO:-0700
TZNAME:PDT
DTSTART:20240310T100000
END:DAYLIGHT
BEGIN:STANDARD
TZOFFSETFROM:-0700
TZOFFSETTO:-0800
TZNAME:PST
DTSTART:20241103T090000
END:STANDARD
END:VTIMEZONE
BEGIN:VEVENT
DTSTART;TZID=America/Los_Angeles:20230116T120000
DTEND;TZID=America/Los_Angeles:20230116T133000
DTSTAMP:20260425T065718
CREATED:20230111T191855Z
LAST-MODIFIED:20230111T191855Z
UID:6851-1673870400-1673875800@www.protec17.org
SUMMARY:MLK Day 2023 Rally & March
DESCRIPTION:Join PROTEC17 at the rally and march to honor the legacy of Dr. Martin Luther King Jr. RSVP with us below so we know to keep our eyes open for you!   \nThe rally is on Mon.\, Jan. 16 and starts at 11 a.m. with the march to follow at 12:30 p.m.  If you and your family would like to join your fellow PROTEC17 staff and members for the march\, please meet us at the bottom of the main steps at Garfield High School at 12 p.m. Look for our PROTEC17 signs! \nYou can find more info on the rally and march at: https://www.seattlemlkcoalition.org/route. \n*This event description has been updated to include the new meeting time. \n 
URL:https://www.protec17.org/event/mlk-day-2023-rally-march/
LOCATION:Garfield High School\, 400 23rd Ave\, Seattle\, WA\, 98122
ATTACH;FMTTYPE=image/png:https://www.protec17.org/wp-content/uploads/2023/01/SeattleMLK2023Flyer.png
END:VEVENT
END:VCALENDAR