BEGIN:VCALENDAR
VERSION:2.0
PRODID:-//PROTEC17 - ECPv6.15.17.1//NONSGML v1.0//EN
CALSCALE:GREGORIAN
METHOD:PUBLISH
X-ORIGINAL-URL:https://www.protec17.org
X-WR-CALDESC:Events for PROTEC17
REFRESH-INTERVAL;VALUE=DURATION:PT1H
X-Robots-Tag:noindex
X-PUBLISHED-TTL:PT1H
BEGIN:VTIMEZONE
TZID:America/Los_Angeles
BEGIN:DAYLIGHT
TZOFFSETFROM:-0800
TZOFFSETTO:-0700
TZNAME:PDT
DTSTART:20220313T100000
END:DAYLIGHT
BEGIN:STANDARD
TZOFFSETFROM:-0700
TZOFFSETTO:-0800
TZNAME:PST
DTSTART:20221106T090000
END:STANDARD
BEGIN:DAYLIGHT
TZOFFSETFROM:-0800
TZOFFSETTO:-0700
TZNAME:PDT
DTSTART:20230312T100000
END:DAYLIGHT
BEGIN:STANDARD
TZOFFSETFROM:-0700
TZOFFSETTO:-0800
TZNAME:PST
DTSTART:20231105T090000
END:STANDARD
BEGIN:DAYLIGHT
TZOFFSETFROM:-0800
TZOFFSETTO:-0700
TZNAME:PDT
DTSTART:20240310T100000
END:DAYLIGHT
BEGIN:STANDARD
TZOFFSETFROM:-0700
TZOFFSETTO:-0800
TZNAME:PST
DTSTART:20241103T090000
END:STANDARD
END:VTIMEZONE
BEGIN:VEVENT
DTSTART;TZID=America/Los_Angeles:20230111T120000
DTEND;TZID=America/Los_Angeles:20230111T130000
DTSTAMP:20260422T230117
CREATED:20221014T232648Z
LAST-MODIFIED:20221219T234707Z
UID:6393-1673438400-1673442000@www.protec17.org
SUMMARY:Steward Training - Part 1 (Virtual)
DESCRIPTION:Not sure what all a steward does? We’re here to help! Join your fellow PROTEC17 union stewards on Wed.\, Jan. 11 for Steward Training – Part I! We’ll discuss the many roles of an effective steward\, grievances\, and members’ right to representation. Open to all stewards\, new and experienced! Members will need to attend Parts 1 and 2 before officially becoming a Steward. \nPROTEC17 members\, please check your email and/or the Member Portal for more info and meeting details.
URL:https://www.protec17.org/event/steward-training-part-1-virtual-3/
LOCATION:ONLINE MEETING VIA ZOOM
ATTACH;FMTTYPE=image/jpeg:https://www.protec17.org/wp-content/uploads/2022/07/steward-training.jpeg
END:VEVENT
BEGIN:VEVENT
DTSTART;TZID=America/Los_Angeles:20230111T120000
DTEND;TZID=America/Los_Angeles:20230111T130000
DTSTAMP:20260422T230117
CREATED:20230107T005451Z
LAST-MODIFIED:20230107T005451Z
UID:6772-1673438400-1673442000@www.protec17.org
SUMMARY:WSDOT Chapter Meeting (Virtual)
DESCRIPTION:Detailed information on how to join this online meeting will be emailed out to members one week prior to the meeting\, followed by a Reminder email the day before the meeting.  Please refer to your personal email to get that information\, or ask a co-worker\, steward\, or your union rep if you don’t receive the email.  Hope to see you all there!
URL:https://www.protec17.org/event/wsdot-chapter-meeting-virtual/
LOCATION:ONLINE CHAPTER MEETING VIA ZOOM
ATTACH;FMTTYPE=image/png:https://www.protec17.org/wp-content/uploads/2018/12/wsdot-logo-e1544476767123.png
ORGANIZER;CN="Sarah Lorenzini":MAILTO:sarah@protec17.org
END:VEVENT
BEGIN:VEVENT
DTSTART;TZID=America/Los_Angeles:20230111T173000
DTEND;TZID=America/Los_Angeles:20230111T183000
DTSTAMP:20260422T230117
CREATED:20230109T200629Z
LAST-MODIFIED:20230109T200629Z
UID:6777-1673458200-1673461800@www.protec17.org
SUMMARY:Tacoma Chapter Meeting (Virtual)
DESCRIPTION:Please check your home email or the events page in the Member Portal for all the details and online log-in information. See you at the meeting!
URL:https://www.protec17.org/event/tacoma-chapter-meeting-virtual/
LOCATION:ONLINE CHAPTER MEETING VIA ZOOM
ATTACH;FMTTYPE=image/png:https://www.protec17.org/wp-content/uploads/2022/08/Tacoma-Chapter-Mtg.-8.10.22.png
ORGANIZER;CN="Brent Wagar":MAILTO:brent@protec17.org
END:VEVENT
END:VCALENDAR