BEGIN:VCALENDAR
VERSION:2.0
PRODID:-//PROTEC17 - ECPv6.15.20//NONSGML v1.0//EN
CALSCALE:GREGORIAN
METHOD:PUBLISH
X-WR-CALNAME:PROTEC17
X-ORIGINAL-URL:https://www.protec17.org
X-WR-CALDESC:Events for PROTEC17
REFRESH-INTERVAL;VALUE=DURATION:PT1H
X-Robots-Tag:noindex
X-PUBLISHED-TTL:PT1H
BEGIN:VTIMEZONE
TZID:America/Los_Angeles
BEGIN:DAYLIGHT
TZOFFSETFROM:-0800
TZOFFSETTO:-0700
TZNAME:PDT
DTSTART:20210314T100000
END:DAYLIGHT
BEGIN:STANDARD
TZOFFSETFROM:-0700
TZOFFSETTO:-0800
TZNAME:PST
DTSTART:20211107T090000
END:STANDARD
BEGIN:DAYLIGHT
TZOFFSETFROM:-0800
TZOFFSETTO:-0700
TZNAME:PDT
DTSTART:20220313T100000
END:DAYLIGHT
BEGIN:STANDARD
TZOFFSETFROM:-0700
TZOFFSETTO:-0800
TZNAME:PST
DTSTART:20221106T090000
END:STANDARD
BEGIN:DAYLIGHT
TZOFFSETFROM:-0800
TZOFFSETTO:-0700
TZNAME:PDT
DTSTART:20230312T100000
END:DAYLIGHT
BEGIN:STANDARD
TZOFFSETFROM:-0700
TZOFFSETTO:-0800
TZNAME:PST
DTSTART:20231105T090000
END:STANDARD
END:VTIMEZONE
BEGIN:VEVENT
DTSTART;VALUE=DATE:20221206
DTEND;VALUE=DATE:20221208
DTSTAMP:20260425T114326
CREATED:20221118T185217Z
LAST-MODIFIED:20221118T185439Z
UID:6506-1670342400-1670428799@www.protec17.org
SUMMARY:Seattle Sticker Up Call to Action (Virtual)
DESCRIPTION:Calling all PROTEC17 Seattle members! Join your fellow union siblings in a call to action Sticker Up on Wed.\, Dec. 7. The next contract bargaining session will be that day and your bargaining team needs you to show your support and solidarity. \nPlease download one of our virtual backgrounds (HERE or HERE) or profile photo to use in your virtual meetings on that day. Or reach out to your Union Representative\, Bargaining Team Member\, or Contract Action Team member to get a sticker to wear in your workplace! \nMake sure to hashtag #RSPCT4CityWorkers in all social media posts as you show your support and solidarity!
URL:https://www.protec17.org/event/seattle-sticker-up-call-to-action-virtual/
ATTACH;FMTTYPE=image/png:https://www.protec17.org/wp-content/uploads/2022/11/sticker-up-event-image.png
END:VEVENT
BEGIN:VEVENT
DTSTART;TZID=America/Los_Angeles:20221207T120000
DTEND;TZID=America/Los_Angeles:20221207T130000
DTSTAMP:20260425T114326
CREATED:20221123T173823Z
LAST-MODIFIED:20221130T172723Z
UID:6525-1670414400-1670418000@www.protec17.org
SUMMARY:Building Your Union’s Power & Fending Off Threats (Virtual Training)
DESCRIPTION:Join your fellow union members to learn more about threats facing public sector unions and how to talk with your coworkers about them! We’ll discuss how to prepare for external threats by inoculating your coworkers in advance. Open to all Members! \nHosted in partnership with the Accountable NW. \n— \nPlease check your email or the member portal for details on registration.
URL:https://www.protec17.org/event/building-your-unions-power-fending-off-threats-virtual-training/
LOCATION:ONLINE ONLY
ATTACH;FMTTYPE=image/png:https://www.protec17.org/wp-content/uploads/2022/11/Building-Your-Unions-Power-Fending-Off-Threats-Virtual-Training.png
END:VEVENT
BEGIN:VEVENT
DTSTART;TZID=America/Los_Angeles:20221207T173000
DTEND;TZID=America/Los_Angeles:20221207T203000
DTSTAMP:20260425T114326
CREATED:20221118T233234Z
LAST-MODIFIED:20221130T172812Z
UID:6511-1670434200-1670445000@www.protec17.org
SUMMARY:Portland Chapter - Winter Social
DESCRIPTION:PROTEC17 Portland Chapter is having a fun\, winter social on Wed.\, Dec. 7 at 5:30 p.m. at Wayfinder Beer (304 SE 2nd Ave). The event is kid friendly so feel free to bring family/friends! Please note that everyone will be responsible for their own tabs.
URL:https://www.protec17.org/event/portland-chapter-winter-social/
LOCATION:Wayfinder Beer\, 304 SE 2nd Ave\, Portland\, OR\, 97214\, United States
ATTACH;FMTTYPE=image/png:https://www.protec17.org/wp-content/uploads/2022/11/Portland-social-127-1920-×-1080-px.png
ORGANIZER;CN="Rachel Whiteside":MAILTO:rachel@protec17.org
END:VEVENT
END:VCALENDAR