BEGIN:VCALENDAR
VERSION:2.0
PRODID:-//PROTEC17 - ECPv6.15.20//NONSGML v1.0//EN
CALSCALE:GREGORIAN
METHOD:PUBLISH
X-ORIGINAL-URL:https://www.protec17.org
X-WR-CALDESC:Events for PROTEC17
REFRESH-INTERVAL;VALUE=DURATION:PT1H
X-Robots-Tag:noindex
X-PUBLISHED-TTL:PT1H
BEGIN:VTIMEZONE
TZID:America/Los_Angeles
BEGIN:DAYLIGHT
TZOFFSETFROM:-0800
TZOFFSETTO:-0700
TZNAME:PDT
DTSTART:20210314T100000
END:DAYLIGHT
BEGIN:STANDARD
TZOFFSETFROM:-0700
TZOFFSETTO:-0800
TZNAME:PST
DTSTART:20211107T090000
END:STANDARD
BEGIN:DAYLIGHT
TZOFFSETFROM:-0800
TZOFFSETTO:-0700
TZNAME:PDT
DTSTART:20220313T100000
END:DAYLIGHT
BEGIN:STANDARD
TZOFFSETFROM:-0700
TZOFFSETTO:-0800
TZNAME:PST
DTSTART:20221106T090000
END:STANDARD
BEGIN:DAYLIGHT
TZOFFSETFROM:-0800
TZOFFSETTO:-0700
TZNAME:PDT
DTSTART:20230312T100000
END:DAYLIGHT
BEGIN:STANDARD
TZOFFSETFROM:-0700
TZOFFSETTO:-0800
TZNAME:PST
DTSTART:20231105T090000
END:STANDARD
END:VTIMEZONE
BEGIN:VEVENT
DTSTART;VALUE=DATE:20221031
DTEND;VALUE=DATE:20221201
DTSTAMP:20260425T114704
CREATED:20221028T224801Z
LAST-MODIFIED:20221109T225345Z
UID:6454-1667257200-1669849199@www.protec17.org
SUMMARY:Native American Heritage Month 2022
DESCRIPTION:November is Native American Heritage Month 2022 and we at PROTEC17 invite you join us in honoring and celebrating the Native American community and culture! \nNative American Heritage Month 2022\nResources & Events\n* Please note that this is not an extensive list. \n\nNational Native American Heritage Month Resources \nThe Library of Congress\, National Archives and Records Administration\, National Endowment for the Humanities\, National Gallery of Art\, National Park Service\, Smithsonian Institution and United States Holocaust Memorial Museum pay tribute to the rich ancestry and traditions of Native Americans. More info here. \n\nPBS Native American Heritage Month Collection \nTake a look at Indigenous art\, history\, and culture as told through the historians\, artists\, students\, and scientists in this featured resource collection. More info here. \n\nVisit Seattle – Native American Cultural Heritage Resources & Events \nVisit Seattle provides a list of resources and events honoring Native American culture and history. Find the full info in this guide here. \n\nDuwamish Longhouse and Cultural Center – Online Native Art Auction \nAnnual fundraising event that highlight Native American artists and their work. All proceeds go to the Duwamish Tribe. Bidding goes through Nov. 10 to Nov. 30. Bid at qgive.com with the event ID 989101. Email duwamishgalahelp@gmail.com for questions. \n\nBainbridge Island Museum of Art – Reel Injun – smARTfilms: Native Narratives\n\nTue.\, Nov 1 | 2 – 4 p.m. & 7 – 9 p.m.\nAt the Bainbridge Island Museum of Art Winslow\nIn-person event\nTicket Prices: $10 – $12\nOpen to All Ages\n\nMore info on the event page here. \n\nAtanarjuat: The Fast Runner – smARTfilms: Native Narratives \n\nTue.\, Nov 8 | 2 – 5 p.m. & 7 – 10 p.m.\nAt the Bainbridge Island Museum of Art Winslow\nIn-person event\nTicket Prices: $10 – $12\nAges: 18+\n\nMore info on the event page here. \n\nUnited Indians Native Art Market \n\nMultiple dates between Nov 19 – Dec 18\nAt the Daybreak Star Indian Cultural Center Magnolia (Seattle)\nIn-person event\nFree\n\nMore info on the event page here. \n\nRegional Arts & Culture Council – Resource & Info \nThe Regional Arts & Culture Council provides an informative read on honoring Native American Heritage month and the rich history of the Native American community — includes info about things to do in Portland\, OR as you honor and pay homage. More info here. \n\nNative American Youth and Family Center (NAYA)  \nLocated in and serving The Portland area (home to the 9th largest urban Native American community)\, read more here about what the NAYA is doing to uplift and empower Native American individuals and families. Check out the variety of programs and events that they have and consider supporting their work here. \n\nVenture Portland – Native American Businesses to Support \nMore info here.
URL:https://www.protec17.org/event/native-american-heritage-month-2022/
CATEGORIES:racial justice
ATTACH;FMTTYPE=image/jpeg:https://www.protec17.org/wp-content/uploads/2022/10/FgMNiGZaYAAC_o0-e1668034416719.jpeg
END:VEVENT
BEGIN:VEVENT
DTSTART;TZID=America/Los_Angeles:20221109T120000
DTEND;TZID=America/Los_Angeles:20221109T130000
DTSTAMP:20260425T114704
CREATED:20220824T214839Z
LAST-MODIFIED:20221107T040432Z
UID:6089-1667995200-1667998800@www.protec17.org
SUMMARY:WSDOT Chapter Meeting
DESCRIPTION:Detailed information on how to join this online meeting will be emailed out to members one week prior to the meeting\, followed by a Reminder email the day before the meeting.  Please refer to your personal email to get that information\, or ask a co-worker\, steward\, or your union rep if you don’t receive the email.  Hope to see you all there!
URL:https://www.protec17.org/event/wsdot-chapter-meeting-3/
LOCATION:ONLINE MEETING VIA ZOOM
ATTACH;FMTTYPE=image/jpeg:https://www.protec17.org/wp-content/uploads/2020/05/state-of-washington-logo.jpg
ORGANIZER;CN="Sarah Lorenzini":MAILTO:sarah@protec17.org
END:VEVENT
BEGIN:VEVENT
DTSTART;TZID=America/Los_Angeles:20221109T120000
DTEND;TZID=America/Los_Angeles:20221109T133000
DTSTAMP:20260425T114704
CREATED:20220923T183014Z
LAST-MODIFIED:20221109T195516Z
UID:6301-1667995200-1668000600@www.protec17.org
SUMMARY:Steward Training: Weingarten Rights (Virtual)
DESCRIPTION:Join your fellow Stewards for a deep-dive on Weingarten Rights! Come learn about how to effectively represent a coworker in an investigatory interview. Open to all Stewards! Please note that the registration limited to 40 attendees.  Please only register if you are certain you can attend. If filled quickly\, another date will be added.  \nHosted in partnership with the WA Labor Education Research Center. \nMembers\, please check your email for details on how to register.
URL:https://www.protec17.org/event/steward-training-weingarten-rights-virtual/
LOCATION:ONLINE MEETING VIA ZOOM
ATTACH;FMTTYPE=image/png:https://www.protec17.org/wp-content/uploads/2022/09/steward-training-Weingarten-rights-e1666637244168.png
END:VEVENT
BEGIN:VEVENT
DTSTART;TZID=America/Los_Angeles:20221109T170000
DTEND;TZID=America/Los_Angeles:20221109T180000
DTSTAMP:20260425T114704
CREATED:20220819T171205Z
LAST-MODIFIED:20221017T213650Z
UID:6057-1668013200-1668016800@www.protec17.org
SUMMARY:Portland Chapter Meeting
DESCRIPTION:Detailed information on how to join the online chapter meeting is emailed out to members usually around a week before the meeting\, followed by a reminder email the day before your chapter meeting.  Please refer to your home email to get that information\, or ask a co-worker\, steward\, or your union rep if you don’t receive the email.  Hope to see you all there! \nPlease note that this meeting was originally scheduled for Nov. 16 and has now been rescheduled to Nov. 9.
URL:https://www.protec17.org/event/portland-chapter-meeting-10/
LOCATION:ONLINE CHAPTER MEETING VIA ZOOM
ATTACH;FMTTYPE=image/png:https://www.protec17.org/wp-content/uploads/2022/03/Portland-Chapter-Meeting-April-2022.png
ORGANIZER;CN="Rachel Whiteside":MAILTO:rachel@protec17.org
END:VEVENT
BEGIN:VEVENT
DTSTART;TZID=America/Los_Angeles:20221109T173000
DTEND;TZID=America/Los_Angeles:20221109T183000
DTSTAMP:20260425T114704
CREATED:20220825T210852Z
LAST-MODIFIED:20220825T210852Z
UID:6106-1668015000-1668018600@www.protec17.org
SUMMARY:Tacoma Chapter Meeting
DESCRIPTION:Detailed information on how to join the online meeting is sent to members’ home email approximately a week before the meeting. \nPlease check your home email for all the details on the meeting agenda and the online log-in information! \nSee you at the meeting! \n  \n  \n 
URL:https://www.protec17.org/event/tacoma-chapter-meeting-8/
LOCATION:ONLINE MEETING VIA ZOOM
ATTACH;FMTTYPE=image/png:https://www.protec17.org/wp-content/uploads/2022/08/Tacoma-Chapter-Mtg.-8.10.22.png
END:VEVENT
END:VCALENDAR