BEGIN:VCALENDAR
VERSION:2.0
PRODID:-//PROTEC17 - ECPv6.15.20//NONSGML v1.0//EN
CALSCALE:GREGORIAN
METHOD:PUBLISH
X-ORIGINAL-URL:https://www.protec17.org
X-WR-CALDESC:Events for PROTEC17
REFRESH-INTERVAL;VALUE=DURATION:PT1H
X-Robots-Tag:noindex
X-PUBLISHED-TTL:PT1H
BEGIN:VTIMEZONE
TZID:America/Los_Angeles
BEGIN:DAYLIGHT
TZOFFSETFROM:-0800
TZOFFSETTO:-0700
TZNAME:PDT
DTSTART:20210314T100000
END:DAYLIGHT
BEGIN:STANDARD
TZOFFSETFROM:-0700
TZOFFSETTO:-0800
TZNAME:PST
DTSTART:20211107T090000
END:STANDARD
BEGIN:DAYLIGHT
TZOFFSETFROM:-0800
TZOFFSETTO:-0700
TZNAME:PDT
DTSTART:20220313T100000
END:DAYLIGHT
BEGIN:STANDARD
TZOFFSETFROM:-0700
TZOFFSETTO:-0800
TZNAME:PST
DTSTART:20221106T090000
END:STANDARD
BEGIN:DAYLIGHT
TZOFFSETFROM:-0800
TZOFFSETTO:-0700
TZNAME:PDT
DTSTART:20230312T100000
END:DAYLIGHT
BEGIN:STANDARD
TZOFFSETFROM:-0700
TZOFFSETTO:-0800
TZNAME:PST
DTSTART:20231105T090000
END:STANDARD
END:VTIMEZONE
BEGIN:VEVENT
DTSTART;VALUE=DATE:20220914
DTEND;VALUE=DATE:20221016
DTSTAMP:20260425T132921
CREATED:20220930T220526Z
LAST-MODIFIED:20220930T221330Z
UID:6325-1663196400-1665874799@www.protec17.org
SUMMARY:Latine/x Heritage Month
DESCRIPTION:Sep 15 – Oct 15 \n\n\n\n\nIt is undeniable that the Latine/x community has played a major role in the success of the Labor Movement — famous labor leaders like Dolores Huerta\, César Chávez\, Emma Tenayuca\, Santiago Iglesias Pantin\, and Luisa Moreno\, to name a few — and the progress that has been made would not be possible without their dedicated organizing and leadership.\n\nThis Latine/x Heritage Month\, join PROTEC17 in honoring and celebrating Latine/x history and supporting the continuous present-day Latine/x community that continues to play a big part of the Labor Movement as we know it now—including Latine/x PROTEC17 members who continue to add so much to our union! \n\nTogether we are stronger. ✊\n\n\n\n\n  \nLatine/x Organizations/Programs and Events \nHere are a few amazing Latine/x organizations and programs that serve as resources and/or ways of supporting Latine/x workers and culture in our communities! \n  \nWashington State Labor Council (WSLC) –\nImmigrant and Worker Justice Toolkit \nPROTEC17 is one of many committed labor unions with the Washington State Labor Council (WSLC). The WSLC provides a variety resources\, including this resource toolkit for immigrant and worker justice. \nThis toolkit provides documented and undocumented workers\, worker advocates\, and union leaders with the resources and support they need to create a just and fair future for immigrants in the U.S. \nMore info HERE. \n  \n  \nWashington State Labor Council (WSLC) –\nNaturalization Legal Services \nThe WLSC provides reduced-cost/pro-bono legal services at Nuestra Casa in Sunnyside\, WA. \nMore info HERE. \n  \nUnited Farm Workers (UFW) Union \nSupport our union siblings at the United Farm Workers (UFW) union and get involved with responding to their calls to action and/or donating to support their work. \nMore info HERE. \n  \nCasa Latina – Day Worker Center \nBecome a member or hire a worker through the Casa Latina Day Worker Center. Through this program\, Casa Latina members receive training on job skills\, health and safety\, and worker rights. These members take the lead in determining program rules\, procedures\, and wages. This strong leadership development component creates a sense of ownership and pride among participants. \nMore info HERE. \n  \nSea Mar Museum of Chicano/a/Latino/a Culture \nVisit the Sea Mar Museum of Chicano/a/Latino/a Culture in Boulevard Park\, right in Seattle\, WA. Learn more about Latine/x history and heritage\, including features of labor leaders like Dolores Huerta and César Chávez. \nMore info HERE. \n  \nEl Centro de la Raza – 50th Anniversary Gala \nSupport El Centro de la Raza by buying a ticket for their “Building the Beloved Community Gala” on Sat.\, Oct. 8\, 2022. \n\n\n\nTo donate\, click here.\nFor Sponsorship information\, click here.\nTo donate an auction item\, click here.\n\n\n\nMore info HERE. \n  \n\n  \nSeattle Latino Film Festival  \nCheck out the 14th Annual Seattle Latino Film Festival happening between Oct. 7 – 14 and enjoy a series of films from incredible Latine/x creators. \nMore info HERE.
URL:https://www.protec17.org/event/latine-x-heritage-month/
CATEGORIES:racial justice
ATTACH;FMTTYPE=image/png:https://www.protec17.org/wp-content/uploads/2022/09/LATINEX-HERITAGE-MONTH.png
END:VEVENT
BEGIN:VEVENT
DTSTART;TZID=America/Los_Angeles:20221004T110000
DTEND;TZID=America/Los_Angeles:20221004T120000
DTSTAMP:20260425T132921
CREATED:20220919T195310Z
LAST-MODIFIED:20220919T195737Z
UID:6283-1664881200-1664884800@www.protec17.org
SUMMARY:City of Seattle Temp Workers: Your Union Rights & Benefits (Virtual)
DESCRIPTION:Are you a City of Seattle temp worker and not sure what the point would be of becoming a union member? Join your Seattle Union Reps to learn about the benefits and protections you are eligible for\, and what temp worker benefits we’re fighting for in current contract bargaining!  \nOpen to active members\, and folks who have yet to sign a membership card! \nPlease check your email for full details and meeting info.
URL:https://www.protec17.org/event/city-of-seattle-temp-workers-your-union-rights-benefits/
LOCATION:ONLINE MEETING VIA ZOOM
ATTACH;FMTTYPE=image/png:https://www.protec17.org/wp-content/uploads/2022/09/City-of-Seattle-Temp-Workers-Your-Union-Rights-Benefits.png
END:VEVENT
BEGIN:VEVENT
DTSTART;TZID=America/Los_Angeles:20221004T120000
DTEND;TZID=America/Los_Angeles:20221004T130000
DTSTAMP:20260425T132921
CREATED:20220819T170049Z
LAST-MODIFIED:20220819T170049Z
UID:6051-1664884800-1664888400@www.protec17.org
SUMMARY:Portland Chapter Meeting
DESCRIPTION:Detailed information on how to join the online chapter meeting is emailed out to members usually around a week before the meeting\, followed by a reminder email the day before your chapter meeting.  Please refer to your home email to get that information\, or ask a co-worker\, steward\, or your union rep if you don’t receive the email.  Hope to see you all there!
URL:https://www.protec17.org/event/portland-chapter-meeting-7/
LOCATION:ONLINE CHAPTER MEETING VIA ZOOM
ATTACH;FMTTYPE=image/png:https://www.protec17.org/wp-content/uploads/2022/03/Portland-Chapter-Meeting-April-2022.png
ORGANIZER;CN="Rachel Whiteside":MAILTO:rachel@protec17.org
END:VEVENT
END:VCALENDAR