BEGIN:VCALENDAR
VERSION:2.0
PRODID:-//PROTEC17 - ECPv6.15.20//NONSGML v1.0//EN
CALSCALE:GREGORIAN
METHOD:PUBLISH
X-WR-CALNAME:PROTEC17
X-ORIGINAL-URL:https://www.protec17.org
X-WR-CALDESC:Events for PROTEC17
REFRESH-INTERVAL;VALUE=DURATION:PT1H
X-Robots-Tag:noindex
X-PUBLISHED-TTL:PT1H
BEGIN:VTIMEZONE
TZID:America/Los_Angeles
BEGIN:DAYLIGHT
TZOFFSETFROM:-0800
TZOFFSETTO:-0700
TZNAME:PDT
DTSTART:20210314T100000
END:DAYLIGHT
BEGIN:STANDARD
TZOFFSETFROM:-0700
TZOFFSETTO:-0800
TZNAME:PST
DTSTART:20211107T090000
END:STANDARD
BEGIN:DAYLIGHT
TZOFFSETFROM:-0800
TZOFFSETTO:-0700
TZNAME:PDT
DTSTART:20220313T100000
END:DAYLIGHT
BEGIN:STANDARD
TZOFFSETFROM:-0700
TZOFFSETTO:-0800
TZNAME:PST
DTSTART:20221106T090000
END:STANDARD
BEGIN:DAYLIGHT
TZOFFSETFROM:-0800
TZOFFSETTO:-0700
TZNAME:PDT
DTSTART:20230312T100000
END:DAYLIGHT
BEGIN:STANDARD
TZOFFSETFROM:-0700
TZOFFSETTO:-0800
TZNAME:PST
DTSTART:20231105T090000
END:STANDARD
END:VTIMEZONE
BEGIN:VEVENT
DTSTART;TZID=America/Los_Angeles:20220907T110000
DTEND;TZID=America/Los_Angeles:20220907T120000
DTSTAMP:20260425T161258
CREATED:20220823T181549Z
LAST-MODIFIED:20220824T200006Z
UID:6061-1662548400-1662552000@www.protec17.org
SUMMARY:Seattle Negotiations - Kick-off Event!
DESCRIPTION:Join your fellow union members across the City at the Bargaining Kick-Off Event to show the City who makes Seattle run!  \nWed.\, Sep. 7\, 2022\n12 p.m.\nSeattle City Hall (Bertha Knight Landes Room) \nThis is an IN PERSON event! Bring yourself\, your co-workers\, a mask\, and your PROTEC17 gear to show your union pride! Light refreshments\, union signs\, and masks will be provided. \nPLEASE RSVP BELOW!
URL:https://www.protec17.org/event/seattle-negotiations-kick-off-event/
LOCATION:Seattle City Hall\, Bertha Knight Landes Room\, 600 4th Ave\, Seattle\, WA\, 98104\, United States
ATTACH;FMTTYPE=image/png:https://www.protec17.org/wp-content/uploads/2022/08/PROTEC17-Sneakers-1.png
END:VEVENT
END:VCALENDAR