BEGIN:VCALENDAR
VERSION:2.0
PRODID:-//PROTEC17 - ECPv6.15.20//NONSGML v1.0//EN
CALSCALE:GREGORIAN
METHOD:PUBLISH
X-WR-CALNAME:PROTEC17
X-ORIGINAL-URL:https://www.protec17.org
X-WR-CALDESC:Events for PROTEC17
REFRESH-INTERVAL;VALUE=DURATION:PT1H
X-Robots-Tag:noindex
X-PUBLISHED-TTL:PT1H
BEGIN:VTIMEZONE
TZID:America/Los_Angeles
BEGIN:DAYLIGHT
TZOFFSETFROM:-0800
TZOFFSETTO:-0700
TZNAME:PDT
DTSTART:20210314T100000
END:DAYLIGHT
BEGIN:STANDARD
TZOFFSETFROM:-0700
TZOFFSETTO:-0800
TZNAME:PST
DTSTART:20211107T090000
END:STANDARD
BEGIN:DAYLIGHT
TZOFFSETFROM:-0800
TZOFFSETTO:-0700
TZNAME:PDT
DTSTART:20220313T100000
END:DAYLIGHT
BEGIN:STANDARD
TZOFFSETFROM:-0700
TZOFFSETTO:-0800
TZNAME:PST
DTSTART:20221106T090000
END:STANDARD
BEGIN:DAYLIGHT
TZOFFSETFROM:-0800
TZOFFSETTO:-0700
TZNAME:PDT
DTSTART:20230312T100000
END:DAYLIGHT
BEGIN:STANDARD
TZOFFSETFROM:-0700
TZOFFSETTO:-0800
TZNAME:PST
DTSTART:20231105T090000
END:STANDARD
END:VTIMEZONE
BEGIN:VEVENT
DTSTART;TZID=America/Los_Angeles:20220825T160000
DTEND;TZID=America/Los_Angeles:20220825T160000
DTSTAMP:20260425T174247
CREATED:20220714T195252Z
LAST-MODIFIED:20220720T220924Z
UID:5822-1661443200-1661443200@www.protec17.org
SUMMARY:VIRTUAL Organizing 101 Training - Part II (Evening Option)
DESCRIPTION:Join your fellow PROTEC17 union members on August 25th for Organizing 101 – Part II! Continue to expand your organizing skills! In Part II\, you’ll learn how to strengthen your union’s chapter through new and longtime members\, and envision what your organized workplace can look like (and win!). \nOpen to all active members\, new to experienced!\n\nWe encourage all members who participate to attend both Part I and II (daytime and evening options available).  \nRegister HERE to join us on Zoom!
URL:https://www.protec17.org/event/organizing-101-part-ii-evening-option/
ATTACH;FMTTYPE=image/png:https://www.protec17.org/wp-content/uploads/2022/07/organizing-training.png
END:VEVENT
END:VCALENDAR