BEGIN:VCALENDAR
VERSION:2.0
PRODID:-//PROTEC17 - ECPv6.15.20//NONSGML v1.0//EN
CALSCALE:GREGORIAN
METHOD:PUBLISH
X-ORIGINAL-URL:https://www.protec17.org
X-WR-CALDESC:Events for PROTEC17
REFRESH-INTERVAL;VALUE=DURATION:PT1H
X-Robots-Tag:noindex
X-PUBLISHED-TTL:PT1H
BEGIN:VTIMEZONE
TZID:America/Los_Angeles
BEGIN:DAYLIGHT
TZOFFSETFROM:-0800
TZOFFSETTO:-0700
TZNAME:PDT
DTSTART:20210314T100000
END:DAYLIGHT
BEGIN:STANDARD
TZOFFSETFROM:-0700
TZOFFSETTO:-0800
TZNAME:PST
DTSTART:20211107T090000
END:STANDARD
BEGIN:DAYLIGHT
TZOFFSETFROM:-0800
TZOFFSETTO:-0700
TZNAME:PDT
DTSTART:20220313T100000
END:DAYLIGHT
BEGIN:STANDARD
TZOFFSETFROM:-0700
TZOFFSETTO:-0800
TZNAME:PST
DTSTART:20221106T090000
END:STANDARD
BEGIN:DAYLIGHT
TZOFFSETFROM:-0800
TZOFFSETTO:-0700
TZNAME:PDT
DTSTART:20230312T100000
END:DAYLIGHT
BEGIN:STANDARD
TZOFFSETFROM:-0700
TZOFFSETTO:-0800
TZNAME:PST
DTSTART:20231105T090000
END:STANDARD
END:VTIMEZONE
BEGIN:VEVENT
DTSTART;TZID=America/Los_Angeles:20220823T110000
DTEND;TZID=America/Los_Angeles:20220823T120000
DTSTAMP:20260425T174359
CREATED:20220714T194657Z
LAST-MODIFIED:20220727T230907Z
UID:5818-1661252400-1661256000@www.protec17.org
SUMMARY:VIRTUAL Organizing 101 Training - Part II (Daytime Option)
DESCRIPTION:Join your fellow PROTEC17 union members on Aug. 23 for Organizing 101 – Part I! Learn the basics about what organizing is\, how to have an effective organizing conversation with your coworkers\, and envision what your organized workplace can look like!\n\nOpen to all active members\, new to experienced!\n\nWe encourage all members who participate to attend both Part I and II (daytime and evening options available).  \nRegister HERE to join us on Zoom!
URL:https://www.protec17.org/event/organizing-101-part-ii-daytime-option/
ATTACH;FMTTYPE=image/png:https://www.protec17.org/wp-content/uploads/2022/07/organizing-training.png
END:VEVENT
END:VCALENDAR