BEGIN:VCALENDAR
VERSION:2.0
PRODID:-//PROTEC17 - ECPv6.15.20//NONSGML v1.0//EN
CALSCALE:GREGORIAN
METHOD:PUBLISH
X-WR-CALNAME:PROTEC17
X-ORIGINAL-URL:https://www.protec17.org
X-WR-CALDESC:Events for PROTEC17
REFRESH-INTERVAL;VALUE=DURATION:PT1H
X-Robots-Tag:noindex
X-PUBLISHED-TTL:PT1H
BEGIN:VTIMEZONE
TZID:America/Los_Angeles
BEGIN:DAYLIGHT
TZOFFSETFROM:-0800
TZOFFSETTO:-0700
TZNAME:PDT
DTSTART:20210314T100000
END:DAYLIGHT
BEGIN:STANDARD
TZOFFSETFROM:-0700
TZOFFSETTO:-0800
TZNAME:PST
DTSTART:20211107T090000
END:STANDARD
BEGIN:DAYLIGHT
TZOFFSETFROM:-0800
TZOFFSETTO:-0700
TZNAME:PDT
DTSTART:20220313T100000
END:DAYLIGHT
BEGIN:STANDARD
TZOFFSETFROM:-0700
TZOFFSETTO:-0800
TZNAME:PST
DTSTART:20221106T090000
END:STANDARD
BEGIN:DAYLIGHT
TZOFFSETFROM:-0800
TZOFFSETTO:-0700
TZNAME:PDT
DTSTART:20230312T100000
END:DAYLIGHT
BEGIN:STANDARD
TZOFFSETFROM:-0700
TZOFFSETTO:-0800
TZNAME:PST
DTSTART:20231105T090000
END:STANDARD
END:VTIMEZONE
BEGIN:VEVENT
DTSTART;TZID=America/Los_Angeles:20220813T080000
DTEND;TZID=America/Los_Angeles:20220813T100000
DTSTAMP:20260425T174249
CREATED:20220714T195725Z
LAST-MODIFIED:20220720T220956Z
UID:5829-1660377600-1660384800@www.protec17.org
SUMMARY:VIRTUAL Steward Training - Part I & II (Weekend Option)
DESCRIPTION:Not sure what all a steward does? We’re here to help! Join your fellow PROTEC17 union stewards on August 13th for Steward Training – Part I & II! We’ll discuss the many roles of an effective steward\, what you need to know about grievances\, members’ right to representation\, and basic organizing skills. \n\nOpen to all stewards\, new and experienced!\n\nWe encourage all stewards who participate to attend both Part I and II (daytime and weekend options available).  \nRegister HERE to join us on Zoom!
URL:https://www.protec17.org/event/steward-training-part-i-ii-weekend-option/
ATTACH;FMTTYPE=image/jpeg:https://www.protec17.org/wp-content/uploads/2022/07/steward-training.jpeg
END:VEVENT
END:VCALENDAR