BEGIN:VCALENDAR
VERSION:2.0
PRODID:-//PROTEC17 - ECPv6.15.20//NONSGML v1.0//EN
CALSCALE:GREGORIAN
METHOD:PUBLISH
X-ORIGINAL-URL:https://www.protec17.org
X-WR-CALDESC:Events for PROTEC17
REFRESH-INTERVAL;VALUE=DURATION:PT1H
X-Robots-Tag:noindex
X-PUBLISHED-TTL:PT1H
BEGIN:VTIMEZONE
TZID:America/Los_Angeles
BEGIN:DAYLIGHT
TZOFFSETFROM:-0800
TZOFFSETTO:-0700
TZNAME:PDT
DTSTART:20210314T100000
END:DAYLIGHT
BEGIN:STANDARD
TZOFFSETFROM:-0700
TZOFFSETTO:-0800
TZNAME:PST
DTSTART:20211107T090000
END:STANDARD
BEGIN:DAYLIGHT
TZOFFSETFROM:-0800
TZOFFSETTO:-0700
TZNAME:PDT
DTSTART:20220313T100000
END:DAYLIGHT
BEGIN:STANDARD
TZOFFSETFROM:-0700
TZOFFSETTO:-0800
TZNAME:PST
DTSTART:20221106T090000
END:STANDARD
BEGIN:DAYLIGHT
TZOFFSETFROM:-0800
TZOFFSETTO:-0700
TZNAME:PDT
DTSTART:20230312T100000
END:DAYLIGHT
BEGIN:STANDARD
TZOFFSETFROM:-0700
TZOFFSETTO:-0800
TZNAME:PST
DTSTART:20231105T090000
END:STANDARD
END:VTIMEZONE
BEGIN:VEVENT
DTSTART;TZID=America/Los_Angeles:20220810T110000
DTEND;TZID=America/Los_Angeles:20220810T120000
DTSTAMP:20260425T174359
CREATED:20220714T195448Z
LAST-MODIFIED:20220720T221044Z
UID:5824-1660129200-1660132800@www.protec17.org
SUMMARY:VIRTUAL Steward Training - Part I (Daytime Option)
DESCRIPTION:Not sure what all a steward does? We’re here to help! Join your fellow PROTEC17 union stewards on August 10th for Steward Training – Part I! We’ll discuss the many roles of an effective steward. \n\nOpen to all stewards\, new and experienced!\n\nWe encourage all who participate to attend both Part I and II (daytime and weekend options available). \nRegister HERE to join us on Zoom!
URL:https://www.protec17.org/event/steward-training-part-i-daytime-option/
ATTACH;FMTTYPE=image/jpeg:https://www.protec17.org/wp-content/uploads/2022/07/steward-training.jpeg
END:VEVENT
BEGIN:VEVENT
DTSTART;TZID=America/Los_Angeles:20220810T173000
DTEND;TZID=America/Los_Angeles:20220810T183000
DTSTAMP:20260425T174359
CREATED:20220125T002052Z
LAST-MODIFIED:20220517T180254Z
UID:5237-1660152600-1660156200@www.protec17.org
SUMMARY:Tacoma Chapter Meeting
DESCRIPTION:Detailed information on how to join the online meeting is sent to members’ home email approximately a week before the meeting. \nPlease check your home email for all the details on the meeting agenda and the online log-in information! \nSee you at the meeting! \n  \n  \n 
URL:https://www.protec17.org/event/tacoma-chapter-meeting-wed-aug-10-early-evening-online-only/
LOCATION:ONLINE MEETING VIA ZOOM
ATTACH;FMTTYPE=image/jpeg:https://www.protec17.org/wp-content/uploads/2019/11/TAcoma.jpg
END:VEVENT
END:VCALENDAR